BEGIN:VCALENDAR
VERSION:2.0
PRODID:-//Plone.org//NONSGML plone.app.event//EN
X-WR-TIMEZONE:Europe/Berlin
BEGIN:VEVENT
SUMMARY:Tief- und Tiefstbohrungen für Geothermie
DTSTART;TZID=Europe/Berlin:20230130T161500
DTSTAMP:20260426T034608Z
UID:04ddf4b2f1c445a7be7d6bd78ec7f00d@www.uni-marburg.de
ATTENDEE;CN="Prof. Dipl.-Ing. Matthias Reich, Bergakademie TU Freiberg";RO
 LE=REQ-PARTICIPANT:Prof. Dipl.-Ing. Matthias Reich, Bergakademie TU Freibe
 rg
CREATED:20230127T111018Z
DESCRIPTION:https://www.uni-marburg.de/de/fb13/aktuelles/termine/andere-ve
 ranstaltungen/2023/tief-und-tiefstbohrungen-fuer-geothermie\nVortrag im Ra
 hmen des Seminars Physik grüner Technologien
LAST-MODIFIED:20230127T111034Z
LOCATION:Renthof 5\, Großer Hörsaal
URL:https://www.uni-marburg.de/de/fb13/aktuelles/termine/andere-veranstalt
 ungen/2023/tief-und-tiefstbohrungen-fuer-geothermie
END:VEVENT
BEGIN:VTIMEZONE
TZID:Europe/Berlin
X-LIC-LOCATION:Europe/Berlin
BEGIN:STANDARD
DTSTART:20221030T020000
TZNAME:CET
TZOFFSETFROM:+0200
TZOFFSETTO:+0100
END:STANDARD
END:VTIMEZONE
END:VCALENDAR
