BEGIN:VCALENDAR
VERSION:2.0
PRODID:-//Plone.org//NONSGML plone.app.event//EN
X-WR-TIMEZONE:Europe/Berlin
BEGIN:VEVENT
SUMMARY:Transport und Dynamik optischer Anregungen in organischen und hybr
 iden Halbleitersystemen auf der Pikosekunden-Zeitskala
DTSTART;TZID=Europe/Berlin:20241122T103000
DTEND;TZID=Europe/Berlin:20241122T113000
DTSTAMP:20260426T020729Z
UID:9ebcdd4847d043289a02f29d630ac338@www.uni-marburg.de
ATTENDEE;CN="Prof. Dr. Marina Gerhard";ROLE=REQ-PARTICIPANT:Prof. Dr. Mari
 na Gerhard
CREATED:20241021T100919Z
DESCRIPTION:https://www.uni-marburg.de/de/fb13/aktuelles/termine/andere-ve
 ranstaltungen/2024/transport-und-dynamik-optischer-anregungen-in-organisch
 en-und-hybriden-halbleitersystemen-auf-der-pikosekunden-zeitskala\nFachvor
 trag von Prof. Dr. Marina Gerhard
LAST-MODIFIED:20241021T101010Z
LOCATION:Fachbereich Physik\, Renthof 5\, Kleiner Hörsaal
URL:https://www.uni-marburg.de/de/fb13/aktuelles/termine/andere-veranstalt
 ungen/2024/transport-und-dynamik-optischer-anregungen-in-organischen-und-h
 ybriden-halbleitersystemen-auf-der-pikosekunden-zeitskala
END:VEVENT
BEGIN:VTIMEZONE
TZID:Europe/Berlin
X-LIC-LOCATION:Europe/Berlin
BEGIN:STANDARD
DTSTART:20241027T020000
TZNAME:CET
TZOFFSETFROM:+0200
TZOFFSETTO:+0100
END:STANDARD
END:VTIMEZONE
END:VCALENDAR
