BEGIN:VCALENDAR
VERSION:2.0
PRODID:-//Plone.org//NONSGML plone.app.event//EN
X-WR-TIMEZONE:Europe/Berlin
BEGIN:VEVENT
SUMMARY:Weihnachtsfeier für den Fachbereich
DTSTART;TZID=Europe/Berlin:20241213T170000
DTSTAMP:20260425T231848Z
UID:dcda65cfb7e0427f9d1a3ad9e40dac0d@www.uni-marburg.de
CREATED:20241204T125857Z
DESCRIPTION:https://www.uni-marburg.de/de/fb13/aktuelles/termine/andere-ve
 ranstaltungen/2024/weihnachtsfeier-fuer-den-fachbereich\n
LAST-MODIFIED:20241204T125904Z
LOCATION:2 Etage RH 5
URL:https://www.uni-marburg.de/de/fb13/aktuelles/termine/andere-veranstalt
 ungen/2024/weihnachtsfeier-fuer-den-fachbereich
END:VEVENT
BEGIN:VTIMEZONE
TZID:Europe/Berlin
X-LIC-LOCATION:Europe/Berlin
BEGIN:STANDARD
DTSTART:20241027T020000
TZNAME:CET
TZOFFSETFROM:+0200
TZOFFSETTO:+0100
END:STANDARD
END:VTIMEZONE
END:VCALENDAR
