BEGIN:VCALENDAR
VERSION:2.0
PRODID:-//Plone.org//NONSGML plone.app.event//EN
X-WR-TIMEZONE:Europe/Berlin
BEGIN:VEVENT
SUMMARY:Wie wollen wir DIE ENERGIEWENDE GESTALTEN?
DTSTART;TZID=Europe/Berlin:20240424T180000
DTEND;TZID=Europe/Berlin:20240424T200000
DTSTAMP:20260425T002841Z
UID:36ad78173ac24092a214dec055bf9a79@www.uni-marburg.de
ATTENDEE;CN="Prof. Dr. Jan Christoph Goldschmidt (Philipps-Universität Ma
 rburg)";ROLE=REQ-PARTICIPANT:Prof. Dr. Jan Christoph Goldschmidt (Philipps
 -Universität Marburg)
ATTENDEE;CN="Ralf Orths-Rustige (Philipps-Universität Marburg, Klimaschut
 zumsetzungsmanager)";ROLE=REQ-PARTICIPANT:Ralf Orths-Rustige (Philipps-Uni
 versität Marburg, Klimaschutzumsetzungsmanager)
CREATED:20240415T144100Z
DESCRIPTION:https://www.uni-marburg.de/de/fb13/aktuelles/termine/andere-ve
 ranstaltungen/2024/wie-wollen-wir-die-energiewende-gestalten\n"Energiewend
 e zur Nachhaltigkeit" - Prof. Dr. Jan Christoph Goldschmidt\n&\n"Die Unive
 rsität\, eine Kleinstadt in der Stadt - Erfordernisse und Chancen für ei
 ne zukunftsorientierte Energieversorgung" - Ralph Orths-Rustige
LAST-MODIFIED:20240423T132819Z
LOCATION:Vortragsraum der UB\, Deutschhausstraße 6
URL:https://www.uni-marburg.de/de/fb13/aktuelles/termine/andere-veranstalt
 ungen/2024/wie-wollen-wir-die-energiewende-gestalten
END:VEVENT
BEGIN:VTIMEZONE
TZID:Europe/Berlin
X-LIC-LOCATION:Europe/Berlin
BEGIN:DAYLIGHT
DTSTART:20240331T030000
TZNAME:CEST
TZOFFSETFROM:+0100
TZOFFSETTO:+0200
END:DAYLIGHT
END:VTIMEZONE
END:VCALENDAR
