BEGIN:VCALENDAR
VERSION:2.0
PRODID:-//Plone.org//NONSGML plone.app.event//EN
X-WR-TIMEZONE:Europe/Berlin
BEGIN:VEVENT
SUMMARY:Wie wollen wir GRENZEN VERANTWORTEN?
DTSTART;TZID=Europe/Berlin:20240626T180000
DTEND;TZID=Europe/Berlin:20240626T200000
DTSTAMP:20260425T173445Z
UID:e0000e9d1f6142c88d4417bac1d7a37d@www.uni-marburg.de
ATTENDEE;CN="Prof. Dr. Volker Heins (Zentrum für interdisziplinäre Forsc
 hung, Universität Bielefeld)";ROLE=REQ-PARTICIPANT:Prof. Dr. Volker Heins
  (Zentrum für interdisziplinäre Forschung, Universität Bielefeld)
ATTENDEE;CN="Alexandra Obermüller (Justus-Liebig-Universität Gießen, Re
 fugee Law Clinic Gießen)";ROLE=REQ-PARTICIPANT:Alexandra Obermüller (Jus
 tus-Liebig-Universität Gießen, Refugee Law Clinic Gießen)
CREATED:20240415T152903Z
DESCRIPTION:https://www.uni-marburg.de/de/fb13/aktuelles/termine/andere-ve
 ranstaltungen/2024/wie-wollen-wir-grenzen-verantworten\n"Hinter Mauern. Wi
 e die zunehmend militante Migrationsabwehr die Demokratie gefährdet" - Pr
 of. Dr. Volker Heins\n&\n"Asyl aus rechtsethnologischer Perspektive" - Ale
 xandra Obermüller
LAST-MODIFIED:20240423T132818Z
LOCATION:Vortragsraum der UB\, Deutschhausstraße 9
URL:https://www.uni-marburg.de/de/fb13/aktuelles/termine/andere-veranstalt
 ungen/2024/wie-wollen-wir-grenzen-verantworten
END:VEVENT
BEGIN:VTIMEZONE
TZID:Europe/Berlin
X-LIC-LOCATION:Europe/Berlin
BEGIN:DAYLIGHT
DTSTART:20240331T030000
TZNAME:CEST
TZOFFSETFROM:+0100
TZOFFSETTO:+0200
END:DAYLIGHT
END:VTIMEZONE
END:VCALENDAR
