BEGIN:VCALENDAR
VERSION:2.0
PRODID:-//Plone.org//NONSGML plone.app.event//EN
X-WR-TIMEZONE:Europe/Berlin
BEGIN:VEVENT
SUMMARY:Wie wollen wir IM LABOR ARBEITEN?
DTSTART;TZID=Europe/Berlin:20240619T180000
DTEND;TZID=Europe/Berlin:20240619T200000
DTSTAMP:20260424T161123Z
UID:aa0542904f014e928c4a01a21a593b88@www.uni-marburg.de
ATTENDEE;CN="Dr. Hermine Hitzler (Max-Planck-Gesellschaft Generalverwaltun
 g)";ROLE=REQ-PARTICIPANT:Dr. Hermine Hitzler (Max-Planck-Gesellschaft Gene
 ralverwaltung)
ATTENDEE;CN="Dr. Istemi Kuzu (Philipps-Universität Marburg)";ROLE=REQ-PAR
 TICIPANT:Dr. Istemi Kuzu (Philipps-Universität Marburg)
CREATED:20240415T152240Z
DESCRIPTION:https://www.uni-marburg.de/de/fb13/aktuelles/termine/andere-ve
 ranstaltungen/2024/wie-wollen-wir-im-labor-arbeiten\n"Nachhaltigkeit im La
 bor - Im Spannungsfeld zwischen Ambition\, Regulatorik und Laborpraxis" - 
 Dr. Hermine Hitzler & Dr. Istemi Kuzu
LAST-MODIFIED:20240423T132818Z
LOCATION:Vortragsraum der UB\, Deutschhausstraße 9
URL:https://www.uni-marburg.de/de/fb13/aktuelles/termine/andere-veranstalt
 ungen/2024/wie-wollen-wir-im-labor-arbeiten
END:VEVENT
BEGIN:VTIMEZONE
TZID:Europe/Berlin
X-LIC-LOCATION:Europe/Berlin
BEGIN:DAYLIGHT
DTSTART:20240331T030000
TZNAME:CEST
TZOFFSETFROM:+0100
TZOFFSETTO:+0200
END:DAYLIGHT
END:VTIMEZONE
END:VCALENDAR
