BEGIN:VCALENDAR
VERSION:2.0
PRODID:-//Plone.org//NONSGML plone.app.event//EN
X-WR-TIMEZONE:Europe/Berlin
BEGIN:VEVENT
SUMMARY:Wie wollen wir LUST AUF DIE ZUKUNFT ERZEUGEN?
DTSTART;TZID=Europe/Berlin:20240717T180000
DTEND;TZID=Europe/Berlin:20240717T200000
DTSTAMP:20260425T220833Z
UID:76c75e29fc61418d8963e0f3aabf1668@www.uni-marburg.de
ATTENDEE;CN="Dipl. Ing. ETHZ/Transformationsbegleiter Adrian Ganz (Das Pol
 itikLabor)";ROLE=REQ-PARTICIPANT:Dipl. Ing. ETHZ/Transformationsbegleiter 
 Adrian Ganz (Das PolitikLabor)
CREATED:20240415T154707Z
DESCRIPTION:https://www.uni-marburg.de/de/fb13/aktuelles/termine/andere-ve
 ranstaltungen/2024/wie-wollen-wir-lust-auf-die-zukunft-erzeugen-1\n"Der Bl
 ick zurück aus der Zukunft - Ein Abschlussworkshop zu Zukunftsgestaltung"
  - Dipl. Ing. ETHZ/Transformationsbegleiter Adrian Ganz
LAST-MODIFIED:20240423T132818Z
LOCATION:Vortragsraum der UB\, Deutschhausstraße 9
URL:https://www.uni-marburg.de/de/fb13/aktuelles/termine/andere-veranstalt
 ungen/2024/wie-wollen-wir-lust-auf-die-zukunft-erzeugen-1
END:VEVENT
BEGIN:VTIMEZONE
TZID:Europe/Berlin
X-LIC-LOCATION:Europe/Berlin
BEGIN:DAYLIGHT
DTSTART:20240331T030000
TZNAME:CEST
TZOFFSETFROM:+0100
TZOFFSETTO:+0200
END:DAYLIGHT
END:VTIMEZONE
END:VCALENDAR
