BEGIN:VCALENDAR
VERSION:2.0
PRODID:-//Plone.org//NONSGML plone.app.event//EN
X-WR-TIMEZONE:Europe/Berlin
BEGIN:VEVENT
SUMMARY:Wie wollen wir NATUR (RECHTLICH) VERORTEN?
DTSTART;TZID=Europe/Berlin:20240605T180000
DTEND;TZID=Europe/Berlin:20240605T200000
DTSTAMP:20260425T202658Z
UID:b698f0ce732c4857b0330652fcde8818@www.uni-marburg.de
ATTENDEE;CN="Jenny García Ruales (Max-Planck-Institut ethnologische Forsc
 hung, Philipps-Universität Marburg)";ROLE=REQ-PARTICIPANT:Jenny García R
 uales (Max-Planck-Institut ethnologische Forschung, Philipps-Universität 
 Marburg)
ATTENDEE;CN="Elena Ewering (Universität Kassel)";ROLE=REQ-PARTICIPANT:Ele
 na Ewering (Universität Kassel)
CREATED:20240415T150947Z
DESCRIPTION:https://www.uni-marburg.de/de/fb13/aktuelles/termine/andere-ve
 ranstaltungen/2024/wie-wollen-wir-natur-rechtlich-verorten\n"Frösche\, Af
 fen\, Orchideen und Flüsse gewinnen Gerichtsverfahren!" - Jenny García R
 uales \n&\n"Rechte der Natur - Transformationspotential für das deutsche 
 Recht" - Elena Ewering
LAST-MODIFIED:20240423T132818Z
LOCATION:Vortragsraum der UB\, Deutschhausstraße 9
URL:https://www.uni-marburg.de/de/fb13/aktuelles/termine/andere-veranstalt
 ungen/2024/wie-wollen-wir-natur-rechtlich-verorten
END:VEVENT
BEGIN:VTIMEZONE
TZID:Europe/Berlin
X-LIC-LOCATION:Europe/Berlin
BEGIN:DAYLIGHT
DTSTART:20240331T030000
TZNAME:CEST
TZOFFSETFROM:+0100
TZOFFSETTO:+0200
END:DAYLIGHT
END:VTIMEZONE
END:VCALENDAR
