BEGIN:VCALENDAR
VERSION:2.0
PRODID:-//Plone.org//NONSGML plone.app.event//EN
X-WR-TIMEZONE:Europe/Berlin
BEGIN:VEVENT
SUMMARY:Wie wollen wir POLITISCH SEIN?
DTSTART;TZID=Europe/Berlin:20240529T180000
DTEND;TZID=Europe/Berlin:20240529T200000
DTSTAMP:20260425T055124Z
UID:0c1b17141f9a4a018e5818e7f764f48d@www.uni-marburg.de
ATTENDEE;CN="Nikolaj Schultz (University of Copenhagen)";ROLE=REQ-PARTICIP
 ANT:Nikolaj Schultz (University of Copenhagen)
CREATED:20240415T150100Z
DESCRIPTION:https://www.uni-marburg.de/de/fb13/aktuelles/termine/andere-ve
 ranstaltungen/2024/wie-wollen-wir-politisch-sein\n"Three Points for the Po
 litical Ecologists to Remeber" - Nikolaj Schultz
LAST-MODIFIED:20240423T132818Z
LOCATION:Vortragsraum der UB\, Deutschhausstraße 9
URL:https://www.uni-marburg.de/de/fb13/aktuelles/termine/andere-veranstalt
 ungen/2024/wie-wollen-wir-politisch-sein
END:VEVENT
BEGIN:VTIMEZONE
TZID:Europe/Berlin
X-LIC-LOCATION:Europe/Berlin
BEGIN:DAYLIGHT
DTSTART:20240331T030000
TZNAME:CEST
TZOFFSETFROM:+0100
TZOFFSETTO:+0200
END:DAYLIGHT
END:VTIMEZONE
END:VCALENDAR
