BEGIN:VCALENDAR
VERSION:2.0
PRODID:-//Plone.org//NONSGML plone.app.event//EN
X-WR-TIMEZONE:Europe/Berlin
BEGIN:VEVENT
SUMMARY:The Quantum Bits:  From Fundamental Physics to Second Quantum Revo
 lution
DTSTART;TZID=Europe/Berlin:20250212T130000
DTEND;TZID=Europe/Berlin:20250212T140000
DTSTAMP:20260420T133023Z
UID:8e1e9f7dd8244d29a61b6b1357c86579@www.uni-marburg.de
ATTENDEE;CN="Dr. Roberto Rosati";ROLE=REQ-PARTICIPANT:Dr. Roberto Rosati
CREATED:20250203T173418Z
DESCRIPTION:https://www.uni-marburg.de/de/fb13/aktuelles/termine/andere-ve
 ranstaltungen/2025/the-quantum-bits-from-fundamental-physics-to-second-qua
 ntum-revolution\nHabilitationskolloquium von Dr. Roberto Rosati
LAST-MODIFIED:20250203T173559Z
LOCATION:Fachbereich Physik\, Kleiner Hörsaal Renthof 5
URL:https://www.uni-marburg.de/de/fb13/aktuelles/termine/andere-veranstalt
 ungen/2025/the-quantum-bits-from-fundamental-physics-to-second-quantum-rev
 olution
END:VEVENT
BEGIN:VTIMEZONE
TZID:Europe/Berlin
X-LIC-LOCATION:Europe/Berlin
BEGIN:STANDARD
DTSTART:20241027T020000
TZNAME:CET
TZOFFSETFROM:+0200
TZOFFSETTO:+0100
END:STANDARD
END:VTIMEZONE
END:VCALENDAR
