BEGIN:VCALENDAR
VERSION:2.0
PRODID:-//Plone.org//NONSGML plone.app.event//EN
X-WR-TIMEZONE:Europe/Berlin
BEGIN:VEVENT
SUMMARY:Low dimensional modeling of multi-scale turbulent interactions  cl
 ose to boundary
DTSTART;TZID=Europe/Berlin:20180413T150000
DTEND;TZID=Europe/Berlin:20180413T150000
DTSTAMP:20260424T024049Z
UID:d6d53d2132e64eec8faa2b829cf9a9d2@www.uni-marburg.de
ATTENDEE;CN="Referent: Jonathan Prexl, Erstgutachter: Prof. Dr. Bruno Eckh
 ardt, Zweitgutachter: Prof. Dr. Sergei Baranovski";ROLE=REQ-PARTICIPANT:Re
 ferent: Jonathan Prexl, Erstgutachter: Prof. Dr. Bruno Eckhardt, Zweitguta
 chter: Prof. Dr. Sergei Baranovski
CREATED:20180405T104316Z
DESCRIPTION:https://www.uni-marburg.de/de/fb13/aktuelles/termine/examensar
 beiten/2018/low-dimensional-modeling-of-multi-scale-turbulent-interactions
 -close-to-boundary\nPräsentation der Masterarbeit von Herrn Jonathan Prex
 l
LAST-MODIFIED:20180405T111430Z
LOCATION:Fachbereich Physik\, Renthof 6\, Hörsaal (Raum-Nr. 01003)
URL:https://www.uni-marburg.de/de/fb13/aktuelles/termine/examensarbeiten/2
 018/low-dimensional-modeling-of-multi-scale-turbulent-interactions-close-t
 o-boundary
END:VEVENT
BEGIN:VTIMEZONE
TZID:Europe/Berlin
X-LIC-LOCATION:Europe/Berlin
BEGIN:DAYLIGHT
DTSTART:20180325T030000
TZNAME:CEST
TZOFFSETFROM:+0100
TZOFFSETTO:+0200
END:DAYLIGHT
END:VTIMEZONE
END:VCALENDAR
