BEGIN:VCALENDAR
VERSION:2.0
PRODID:-//Plone.org//NONSGML plone.app.event//EN
X-WR-TIMEZONE:Europe/Berlin
BEGIN:VEVENT
SUMMARY:Augenbewegungen während Eigenbewegung in virtueller Realität
DTSTART;TZID=Europe/Berlin:20190325T110000
DTEND;TZID=Europe/Berlin:20190325T110000
DTSTAMP:20260424T102146Z
UID:f32d811b7af8426caf82b373eb498992@www.uni-marburg.de
ATTENDEE;CN="Referent: Peter Wolf, Erstgutachter: Prof. Dr. Frank Bremmer,
  Zweitgutachter: Prof. Dr. Dominik Endres, FB Psychologie";ROLE=REQ-PARTIC
 IPANT:Referent: Peter Wolf, Erstgutachter: Prof. Dr. Frank Bremmer, Zweitg
 utachter: Prof. Dr. Dominik Endres, FB Psychologie
CREATED:20190321T123614Z
DESCRIPTION:https://www.uni-marburg.de/de/fb13/aktuelles/termine/examensar
 beiten/2019/augenbewegungen-waehrend-eigenbewegung-in-virtueller-realitaet
 \nPräsentation der Masterarbeit von Herrn Peter Wolf
LAST-MODIFIED:20190321T124142Z
LOCATION:FB Psychologie\, Gutenbergstraße 18\, Alte Jägerkaserne\, Raum-
 Nr. 00018 (G1)
URL:https://www.uni-marburg.de/de/fb13/aktuelles/termine/examensarbeiten/2
 019/augenbewegungen-waehrend-eigenbewegung-in-virtueller-realitaet
END:VEVENT
BEGIN:VTIMEZONE
TZID:Europe/Berlin
X-LIC-LOCATION:Europe/Berlin
BEGIN:STANDARD
DTSTART:20181028T020000
TZNAME:CET
TZOFFSETFROM:+0200
TZOFFSETTO:+0100
END:STANDARD
END:VTIMEZONE
END:VCALENDAR
