BEGIN:VCALENDAR
VERSION:2.0
PRODID:-//Plone.org//NONSGML plone.app.event//EN
X-WR-TIMEZONE:Europe/Berlin
BEGIN:VEVENT
SUMMARY:Quantitative Scanning Transmission Electron Microscopy for III-V S
 emiconductor Heterostructures Utilizing Multi-Slice Image Simulations
DTSTART;TZID=Europe/Berlin:20190822T150000
DTEND;TZID=Europe/Berlin:20190822T163000
DTSTAMP:20260424T172514Z
UID:e32f0606fdc54ff4a4a38b09d1e49390@www.uni-marburg.de
ATTENDEE;CN="Referentin: Prof. Dr. Kerstin Volz; Koreferent: Prof. Dr. Wol
 fram Heimbrodt";ROLE=REQ-PARTICIPANT:Referentin: Prof. Dr. Kerstin Volz; K
 oreferent: Prof. Dr. Wolfram Heimbrodt
CREATED:20190807T154559Z
DESCRIPTION:https://www.uni-marburg.de/de/fb13/aktuelles/termine/examensar
 beiten/2019/disputation-von-pirmin-kuekelhan\nDisputation von Pirmin Küke
 lhan
LAST-MODIFIED:20191001T154622Z
LOCATION:Fachbereich Physik\, Hans-Meerwein-Str. 6\, Mehrzweckgebäude\, R
 . 02D36
URL:https://www.uni-marburg.de/de/fb13/aktuelles/termine/examensarbeiten/2
 019/disputation-von-pirmin-kuekelhan
END:VEVENT
BEGIN:VTIMEZONE
TZID:Europe/Berlin
X-LIC-LOCATION:Europe/Berlin
BEGIN:DAYLIGHT
DTSTART:20190331T030000
TZNAME:CEST
TZOFFSETFROM:+0100
TZOFFSETTO:+0200
END:DAYLIGHT
END:VTIMEZONE
END:VCALENDAR
