BEGIN:VCALENDAR
VERSION:2.0
PRODID:-//Plone.org//NONSGML plone.app.event//EN
X-WR-TIMEZONE:Europe/Berlin
BEGIN:VEVENT
SUMMARY:Dynamics of Excitons in Semiconductors
DTSTART;TZID=Europe/Berlin:20190715T150000
DTEND;TZID=Europe/Berlin:20190715T163000
DTSTAMP:20260424T070152Z
UID:b49ac8599ddc48f88cdd7882394a537e@www.uni-marburg.de
ATTENDEE;CN="Referent: Prof. Dr. Martin Koch; Koreferent: Prof. Dr. Stepha
 n W. Koch";ROLE=REQ-PARTICIPANT:Referent: Prof. Dr. Martin Koch; Koreferen
 t: Prof. Dr. Stephan W. Koch
CREATED:20190711T153100Z
DESCRIPTION:https://www.uni-marburg.de/de/fb13/aktuelles/termine/examensar
 beiten/2019/dynamics-of-excitons-in-semiconductors\nDisputation von Markus
  Stein
LAST-MODIFIED:20190711T153100Z
LOCATION:Fachbereich Physik\, Renthof 5\, Kleiner Hörsaal
URL:https://www.uni-marburg.de/de/fb13/aktuelles/termine/examensarbeiten/2
 019/dynamics-of-excitons-in-semiconductors
END:VEVENT
BEGIN:VTIMEZONE
TZID:Europe/Berlin
X-LIC-LOCATION:Europe/Berlin
BEGIN:DAYLIGHT
DTSTART:20190331T030000
TZNAME:CEST
TZOFFSETFROM:+0100
TZOFFSETTO:+0200
END:DAYLIGHT
END:VTIMEZONE
END:VCALENDAR
