BEGIN:VCALENDAR
VERSION:2.0
PRODID:-//Plone.org//NONSGML plone.app.event//EN
X-WR-TIMEZONE:Europe/Berlin
BEGIN:VEVENT
SUMMARY:Elastic models of emergent gravity
DTSTART;TZID=Europe/Berlin:20190624T140000
DTEND;TZID=Europe/Berlin:20190624T140000
DTSTAMP:20260422T121708Z
UID:5ce24c3b6af9417abc00064959f34f61@www.uni-marburg.de
ATTENDEE;CN="Referent: Philipp Auffarth, Erstgutachter: Prof. Dr. Peter Le
 nz, Zweitgutachter: Prof. Dr. Florian Gebhard";ROLE=REQ-PARTICIPANT:Refere
 nt: Philipp Auffarth, Erstgutachter: Prof. Dr. Peter Lenz, Zweitgutachter:
  Prof. Dr. Florian Gebhard
CREATED:20190618T093033Z
DESCRIPTION:https://www.uni-marburg.de/de/fb13/aktuelles/termine/examensar
 beiten/2019/elastic-models-of-emergent-gravity\nPräsentation der Masterar
 beit von Herrn Philipp Auffarth
LAST-MODIFIED:20190618T093129Z
LOCATION:Fachbereich Physik\, Renthof 6\, Seminarraum E (Raum-Nr. 00014)
URL:https://www.uni-marburg.de/de/fb13/aktuelles/termine/examensarbeiten/2
 019/elastic-models-of-emergent-gravity
END:VEVENT
BEGIN:VTIMEZONE
TZID:Europe/Berlin
X-LIC-LOCATION:Europe/Berlin
BEGIN:DAYLIGHT
DTSTART:20190331T030000
TZNAME:CEST
TZOFFSETFROM:+0100
TZOFFSETTO:+0200
END:DAYLIGHT
END:VTIMEZONE
END:VCALENDAR
