BEGIN:VCALENDAR
VERSION:2.0
PRODID:-//Plone.org//NONSGML plone.app.event//EN
X-WR-TIMEZONE:Europe/Berlin
BEGIN:VEVENT
SUMMARY:Improved frozen lattice approximation by first principle phonon ca
 lculations
DTSTART;TZID=Europe/Berlin:20190508T110000
DTEND;TZID=Europe/Berlin:20190508T110000
DTSTAMP:20260423T123359Z
UID:0e46121676b644cfb6137534797aa232@www.uni-marburg.de
ATTENDEE;CN="Referent: Herr Alexander Damien Heimes, Erstgutacher: Frau Pr
 of. Kerstin Volz, Zweitgutacher: Herr Priv.Doz. Dr. Ralf Tonner, FB Chemie
 ";ROLE=REQ-PARTICIPANT:Referent: Herr Alexander Damien Heimes, Erstgutache
 r: Frau Prof. Kerstin Volz, Zweitgutacher: Herr Priv.Doz. Dr. Ralf Tonner,
  FB Chemie
CREATED:20190417T122538Z
DESCRIPTION:https://www.uni-marburg.de/de/fb13/aktuelles/termine/examensar
 beiten/2019/improved-frozen-lattice-approximation-by-first-principle-phono
 n-calculations\nPräsentation der Masterarbeit von Herrn Alexander Damien 
 Heimes
LAST-MODIFIED:20190418T105638Z
LOCATION:Lahnberge\, MZG-Hans-Meerwein-Straße 6\, Seminarraum WZMW (Raum-
 Nr. 02D36)
URL:https://www.uni-marburg.de/de/fb13/aktuelles/termine/examensarbeiten/2
 019/improved-frozen-lattice-approximation-by-first-principle-phonon-calcul
 ations
END:VEVENT
BEGIN:VTIMEZONE
TZID:Europe/Berlin
X-LIC-LOCATION:Europe/Berlin
BEGIN:DAYLIGHT
DTSTART:20190331T030000
TZNAME:CEST
TZOFFSETFROM:+0100
TZOFFSETTO:+0200
END:DAYLIGHT
END:VTIMEZONE
END:VCALENDAR
