BEGIN:VCALENDAR
VERSION:2.0
PRODID:-//Plone.org//NONSGML plone.app.event//EN
X-WR-TIMEZONE:Europe/Berlin
BEGIN:VEVENT
SUMMARY:Intermixture of Pentacene and Perfluoropentacene on Molybdenum Dis
 ulfide\, Silver and Gold
DTSTART;TZID=Europe/Berlin:20190212T141500
DTEND;TZID=Europe/Berlin:20190212T141500
DTSTAMP:20260425T040337Z
UID:efb4dbd1ebdf40eb898ff54c66b93582@www.uni-marburg.de
ATTENDEE;CN="Referent: Pierre-Martin Dombrowski, Erstgutachter: Prof. Dr. 
 Gregor Witte, Zweitgutachter: Prof. Dr. Peter Jakob";ROLE=REQ-PARTICIPANT:
 Referent: Pierre-Martin Dombrowski, Erstgutachter: Prof. Dr. Gregor Witte,
  Zweitgutachter: Prof. Dr. Peter Jakob
CREATED:20190130T141913Z
DESCRIPTION:https://www.uni-marburg.de/de/fb13/aktuelles/termine/examensar
 beiten/2019/intermixture-of-pentacene-and-perfluoropentacene-on-molybdenum
 -disulfide-silver-and-gold\nPräsentation der Masterarbeit von Herrn Pierr
 e-Martin Dombrowski
LAST-MODIFIED:20190130T142056Z
LOCATION:Renthof 7\, Seminarraum der  AG Molekulare Festkörperphysik (Rau
 m: 02 006)
URL:https://www.uni-marburg.de/de/fb13/aktuelles/termine/examensarbeiten/2
 019/intermixture-of-pentacene-and-perfluoropentacene-on-molybdenum-disulfi
 de-silver-and-gold
END:VEVENT
BEGIN:VTIMEZONE
TZID:Europe/Berlin
X-LIC-LOCATION:Europe/Berlin
BEGIN:STANDARD
DTSTART:20181028T020000
TZNAME:CET
TZOFFSETFROM:+0200
TZOFFSETTO:+0100
END:STANDARD
END:VTIMEZONE
END:VCALENDAR
