BEGIN:VCALENDAR
VERSION:2.0
PRODID:-//Plone.org//NONSGML plone.app.event//EN
X-WR-TIMEZONE:Europe/Berlin
BEGIN:VEVENT
SUMMARY:Structural Relaxation of Anti Phase Boundaries in GaP for STEM Ima
 ge Simulations
DTSTART;TZID=Europe/Berlin:20190424T120000
DTEND;TZID=Europe/Berlin:20190424T120000
DTSTAMP:20260424T055149Z
UID:3fe87934a18646429ba435e79f935dab@www.uni-marburg.de
ATTENDEE;CN="Referent: Herr Bernard Epp, Erstgutachter: Prof. Dr. Kerstin 
 Volz, Zweitgutachter: Priv.Doz. Dr. Ralf Tonner, FB Chemie";ROLE=REQ-PARTI
 CIPANT:Referent: Herr Bernard Epp, Erstgutachter: Prof. Dr. Kerstin Volz, 
 Zweitgutachter: Priv.Doz. Dr. Ralf Tonner, FB Chemie
CREATED:20190417T121242Z
DESCRIPTION:https://www.uni-marburg.de/de/fb13/aktuelles/termine/examensar
 beiten/2019/structural-relaxation-of-anti-phase-boundaries-in-gap-for-stem
 -image-simulations\nPräserntation der Masterarbeit von Herrn Bernard Epp
LAST-MODIFIED:20190417T125519Z
LOCATION:Lahnberge\, MZG-Hans-Meerwein-Straße 6\, Seminarraum WZMW (Raum-
 Nr. 02D36)
URL:https://www.uni-marburg.de/de/fb13/aktuelles/termine/examensarbeiten/2
 019/structural-relaxation-of-anti-phase-boundaries-in-gap-for-stem-image-s
 imulations
END:VEVENT
BEGIN:VTIMEZONE
TZID:Europe/Berlin
X-LIC-LOCATION:Europe/Berlin
BEGIN:DAYLIGHT
DTSTART:20190331T030000
TZNAME:CEST
TZOFFSETFROM:+0100
TZOFFSETTO:+0200
END:DAYLIGHT
END:VTIMEZONE
END:VCALENDAR
