BEGIN:VCALENDAR
VERSION:2.0
PRODID:-//Plone.org//NONSGML plone.app.event//EN
X-WR-TIMEZONE:Europe/Berlin
BEGIN:VEVENT
SUMMARY:Strukturelle und optoelektronische Eigenschaften teilfluorierter A
 cene in Lösung und kristallinen Dünnfilmen
DTSTART;TZID=Europe/Berlin:20190926T153000
DTSTAMP:20260426T062954Z
UID:5a021296fa3348d9b0eea39f85e691c6@www.uni-marburg.de
ATTENDEE;CN="Referent: Daniel Bischof, Erstgutachter: Prof. Dr. Gregor Wit
 te, Zweitgutachter: Prof. Dr. Ulrich Koert, Fachbereich Chemie";ROLE=REQ-P
 ARTICIPANT:Referent: Daniel Bischof, Erstgutachter: Prof. Dr. Gregor Witte
 , Zweitgutachter: Prof. Dr. Ulrich Koert, Fachbereich Chemie
CREATED:20190912T110701Z
DESCRIPTION:https://www.uni-marburg.de/de/fb13/aktuelles/termine/examensar
 beiten/2019/strukturelle-und-optoelektronische-eigenschaften-teilfluoriert
 er-acene-in-loesung-und-kristallinen-duennfilmen\nPräsentation der Master
 arbeit von Herrn Daniel Bischof
LAST-MODIFIED:20190912T110817Z
LOCATION:Fachbereich Physik\, Renthof 7\, SR der AG (Raum-Nr. 02006)
URL:https://www.uni-marburg.de/de/fb13/aktuelles/termine/examensarbeiten/2
 019/strukturelle-und-optoelektronische-eigenschaften-teilfluorierter-acene
 -in-loesung-und-kristallinen-duennfilmen
END:VEVENT
BEGIN:VTIMEZONE
TZID:Europe/Berlin
X-LIC-LOCATION:Europe/Berlin
BEGIN:DAYLIGHT
DTSTART:20190331T030000
TZNAME:CEST
TZOFFSETFROM:+0100
TZOFFSETTO:+0200
END:DAYLIGHT
END:VTIMEZONE
END:VCALENDAR
