BEGIN:VCALENDAR
VERSION:2.0
PRODID:-//Plone.org//NONSGML plone.app.event//EN
X-WR-TIMEZONE:Europe/Berlin
BEGIN:VEVENT
SUMMARY:Substrate-Induced Polymorph Control of Paracetamol Thin Films
DTSTART;TZID=Europe/Berlin:20191217T141500
DTEND;TZID=Europe/Berlin:20191217T151500
DTSTAMP:20260422T191158Z
UID:9bbb218a7ea64808909e7852edf60359@www.uni-marburg.de
ATTENDEE;CN="Referent: Thomas Demuth, Erstgutachter: Prof. Dr. Gregor Witt
 e, Zweitgutachter: Prof. Dr. Kerstin Volz";ROLE=REQ-PARTICIPANT:Referent: 
 Thomas Demuth, Erstgutachter: Prof. Dr. Gregor Witte, Zweitgutachter: Prof
 . Dr. Kerstin Volz
CREATED:20191209T125425Z
DESCRIPTION:https://www.uni-marburg.de/de/fb13/aktuelles/termine/examensar
 beiten/2019/substrate-induced-polymorph-control-of-paracetamol-thin-films\
 nPräsentation der Masterarbeit von Herrn Thomas Demuth
LAST-MODIFIED:20191209T125501Z
LOCATION:Fachbereich Physik\, Renthof 7\, SR der AG (Raum-Nr. 02006)
URL:https://www.uni-marburg.de/de/fb13/aktuelles/termine/examensarbeiten/2
 019/substrate-induced-polymorph-control-of-paracetamol-thin-films
END:VEVENT
BEGIN:VTIMEZONE
TZID:Europe/Berlin
X-LIC-LOCATION:Europe/Berlin
BEGIN:STANDARD
DTSTART:20191027T020000
TZNAME:CET
TZOFFSETFROM:+0200
TZOFFSETTO:+0100
END:STANDARD
END:VTIMEZONE
END:VCALENDAR
