BEGIN:VCALENDAR
VERSION:2.0
PRODID:-//Plone.org//NONSGML plone.app.event//EN
X-WR-TIMEZONE:Europe/Berlin
BEGIN:VEVENT
SUMMARY:Tumorwachstumsmodelle - Modellierung und statistischer Vergleich a
 nhand der Analyse von Tumorvolumenzeitreihen
DTSTART;TZID=Europe/Berlin:20191014T150000
DTSTAMP:20260425T203602Z
UID:55997f2964d64d0681f0c15c6fdda3f2@www.uni-marburg.de
ATTENDEE;CN="Referent: Karl Vincent Kraft";ROLE=REQ-PARTICIPANT:Referent: 
 Karl Vincent Kraft
ATTENDEE;CN="Erstgutachter: Prof. Dr. Peter Lenz";ROLE=REQ-PARTICIPANT:Ers
 tgutachter: Prof. Dr. Peter Lenz
ATTENDEE;CN="Zweitgutachter: Prof. Dr. Frank Bremmer";ROLE=REQ-PARTICIPANT
 :Zweitgutachter: Prof. Dr. Frank Bremmer
CREATED:20190925T105401Z
DESCRIPTION:https://www.uni-marburg.de/de/fb13/aktuelles/termine/examensar
 beiten/2019/tumorwachstumsmodelle-modellierung-und-statistischer-vergleich
 -anhand-der-analyse-von-tumorvolumenzeitreihen\nPräsentation der Masterar
 beit von Herrn Karl Vincent Kraft
LAST-MODIFIED:20191008T124829Z
LOCATION:Fachbereich Physik\, Renthof 6\, Seminarraum E (Raum-Nr. 00014)
URL:https://www.uni-marburg.de/de/fb13/aktuelles/termine/examensarbeiten/2
 019/tumorwachstumsmodelle-modellierung-und-statistischer-vergleich-anhand-
 der-analyse-von-tumorvolumenzeitreihen
END:VEVENT
BEGIN:VTIMEZONE
TZID:Europe/Berlin
X-LIC-LOCATION:Europe/Berlin
BEGIN:DAYLIGHT
DTSTART:20190331T030000
TZNAME:CEST
TZOFFSETFROM:+0100
TZOFFSETTO:+0200
END:DAYLIGHT
END:VTIMEZONE
END:VCALENDAR
