BEGIN:VCALENDAR
VERSION:2.0
PRODID:-//Plone.org//NONSGML plone.app.event//EN
X-WR-TIMEZONE:Europe/Berlin
BEGIN:VEVENT
SUMMARY:Untersuchung der Dynamik des Kristallwachstums von Halbleiter-Nano
 drähten mittels in-situ Rastertransmissionselektronenmikroskopie
DTSTART;TZID=Europe/Berlin:20190920T100000
DTEND;TZID=Europe/Berlin:20190920T100000
DTSTAMP:20260426T012142Z
UID:d6308c6cbfa4408a9633824645e75754@www.uni-marburg.de
ATTENDEE;CN="Referent: David Peter Krug, Erstgutachterin Prof. Dr. Kerstin
  Volz, Zweitgutachter Dr. Moritz Linkmann";ROLE=REQ-PARTICIPANT:Referent: 
 David Peter Krug, Erstgutachterin Prof. Dr. Kerstin Volz, Zweitgutachter D
 r. Moritz Linkmann
CREATED:20190910T104620Z
DESCRIPTION:https://www.uni-marburg.de/de/fb13/aktuelles/termine/examensar
 beiten/2019/untersuchung-der-dynamik-des-kristallwachstums-von-halbleiter-
 nanodraehten-mittels-in-situ-rastertransmissionselektronenmikroskopie\nPr
 äsentation der Masterarbeit von Herrn David Peter Krug
LAST-MODIFIED:20190910T104658Z
LOCATION:Lahnberge\, MZG-Hans-Meerwein-Straße 6\, Seminarraum WZMW (Raum-
 Nr. 02D36)
URL:https://www.uni-marburg.de/de/fb13/aktuelles/termine/examensarbeiten/2
 019/untersuchung-der-dynamik-des-kristallwachstums-von-halbleiter-nanodrae
 hten-mittels-in-situ-rastertransmissionselektronenmikroskopie
END:VEVENT
BEGIN:VTIMEZONE
TZID:Europe/Berlin
X-LIC-LOCATION:Europe/Berlin
BEGIN:DAYLIGHT
DTSTART:20190331T030000
TZNAME:CEST
TZOFFSETFROM:+0100
TZOFFSETTO:+0200
END:DAYLIGHT
END:VTIMEZONE
END:VCALENDAR
