BEGIN:VCALENDAR
VERSION:2.0
PRODID:-//Plone.org//NONSGML plone.app.event//EN
X-WR-TIMEZONE:Europe/Berlin
BEGIN:VEVENT
SUMMARY:Untersuchung von Quantenquenches in Spinketten mittels der iTEBD-M
 ethode
DTSTART;TZID=Europe/Berlin:20190416T141500
DTEND;TZID=Europe/Berlin:20190416T141500
DTSTAMP:20260424T074912Z
UID:426d65e164384081945df58d2251b451@www.uni-marburg.de
ATTENDEE;CN="Referent: Herr Aron Helzel, Erstgutachter: Prof. Reinhard Noa
 ck, Zweitgutachter: Prof. Peter Lenz";ROLE=REQ-PARTICIPANT:Referent: Herr 
 Aron Helzel, Erstgutachter: Prof. Reinhard Noack, Zweitgutachter: Prof. Pe
 ter Lenz
CREATED:20190321T125912Z
DESCRIPTION:https://www.uni-marburg.de/de/fb13/aktuelles/termine/examensar
 beiten/2019/untersuchung-von-quantenquenches-in-spinketten-mittels-der-ite
 bd-methode\nPräsentation der Masterarbeit von Herrn Aron Helzel
LAST-MODIFIED:20190321T130014Z
LOCATION:Fachbereich Physik\, Renthof 6\, Seminarraum E (Raum-Nr. 00014)
URL:https://www.uni-marburg.de/de/fb13/aktuelles/termine/examensarbeiten/2
 019/untersuchung-von-quantenquenches-in-spinketten-mittels-der-itebd-metho
 de
END:VEVENT
BEGIN:VTIMEZONE
TZID:Europe/Berlin
X-LIC-LOCATION:Europe/Berlin
BEGIN:DAYLIGHT
DTSTART:20190331T030000
TZNAME:CEST
TZOFFSETFROM:+0100
TZOFFSETTO:+0200
END:DAYLIGHT
END:VTIMEZONE
END:VCALENDAR
