BEGIN:VCALENDAR
VERSION:2.0
PRODID:-//Plone.org//NONSGML plone.app.event//EN
X-WR-TIMEZONE:Europe/Berlin
BEGIN:VEVENT
SUMMARY:Untersuchungen\, Optimierung und Anwendung von Ga(N\, As)/Ga(As\, 
 Sb)/Ga(N\, As) "W"-MOWH mit Emissionswellenlängen im Bereich 1\,3 und 1\,
 55 µm
DTSTART;TZID=Europe/Berlin:20191206T150000
DTSTAMP:20260426T045153Z
UID:d8bd20b18fac4e7a8a1a32b318411b8f@www.uni-marburg.de
ATTENDEE;CN="Redner: Imad Limame, Erstgutachter: Prof. Dr. Wolfgang Stolz,
  Zweitgutachter: Prof. Dr. Wolfram Heimbrodt";ROLE=REQ-PARTICIPANT:Redner:
  Imad Limame, Erstgutachter: Prof. Dr. Wolfgang Stolz, Zweitgutachter: Pro
 f. Dr. Wolfram Heimbrodt
CREATED:20191204T142400Z
DESCRIPTION:https://www.uni-marburg.de/de/fb13/aktuelles/termine/examensar
 beiten/2019/untersuchungen-optimierung-und-anwendung-von-ga-n-as-ga-as-sb-
 ga-n-as-w-mowh-mit-emissionswellenlaengen-im-bereich-1-3-und-1-55-um\nPrä
 sentation zur Masterarbeit von Herrn Imad Limame
LAST-MODIFIED:20191204T142414Z
LOCATION:Lahnberge\, MZG-Hans-Meerwein-Straße 6\, Seminarraum WZMW (Raum-
 Nr. 02D36)
URL:https://www.uni-marburg.de/de/fb13/aktuelles/termine/examensarbeiten/2
 019/untersuchungen-optimierung-und-anwendung-von-ga-n-as-ga-as-sb-ga-n-as-
 w-mowh-mit-emissionswellenlaengen-im-bereich-1-3-und-1-55-um
END:VEVENT
BEGIN:VTIMEZONE
TZID:Europe/Berlin
X-LIC-LOCATION:Europe/Berlin
BEGIN:STANDARD
DTSTART:20191027T020000
TZNAME:CET
TZOFFSETFROM:+0200
TZOFFSETTO:+0100
END:STANDARD
END:VTIMEZONE
END:VCALENDAR
