BEGIN:VCALENDAR
VERSION:2.0
PRODID:-//Plone.org//NONSGML plone.app.event//EN
X-WR-TIMEZONE:Europe/Berlin
BEGIN:VEVENT
SUMMARY:Modeling the Spatio-Temporal Organization and Segregation of Bacte
 rial Chromosomes
DTSTART;TZID=Europe/Berlin:20210621T160000
DTEND;TZID=Europe/Berlin:20210621T180000
DTSTAMP:20260424T031955Z
UID:769ff5a0db45469db6218ceade3f6a80@www.uni-marburg.de
ATTENDEE;CN="Referent: Prof. Dr. Peter Lenz; Koreferent: Prof. Dr. Knut Dr
 escher";ROLE=REQ-PARTICIPANT:Referent: Prof. Dr. Peter Lenz; Koreferent: P
 rof. Dr. Knut Drescher
CREATED:20200907T133828Z
DESCRIPTION:https://www.uni-marburg.de/de/fb13/aktuelles/termine/examensar
 beiten/2021/copy4_of_microscopic-modeling-of-novel-semiconductor-heterostr
 ucture-properties\nDisputation von David Geisel
LAST-MODIFIED:20210610T145623Z
LOCATION:Fachbereich Physik\, Renthof 5\, Großer Hörsaal
URL:https://www.uni-marburg.de/de/fb13/aktuelles/termine/examensarbeiten/2
 021/copy4_of_microscopic-modeling-of-novel-semiconductor-heterostructure-p
 roperties
END:VEVENT
BEGIN:VTIMEZONE
TZID:Europe/Berlin
X-LIC-LOCATION:Europe/Berlin
BEGIN:DAYLIGHT
DTSTART:20210328T030000
TZNAME:CEST
TZOFFSETFROM:+0100
TZOFFSETTO:+0200
END:DAYLIGHT
END:VTIMEZONE
END:VCALENDAR
