BEGIN:VCALENDAR
VERSION:2.0
PRODID:-//Plone.org//NONSGML plone.app.event//EN
X-WR-TIMEZONE:Europe/Berlin
BEGIN:VEVENT
SUMMARY:Investigating Self-Mode-Locking in VECSELs: Nonlinear Lensing and 
 Frequency-Modulated Combs
DTSTART;TZID=Europe/Berlin:20210903T140000
DTEND;TZID=Europe/Berlin:20210903T153000
DTSTAMP:20260424T193347Z
UID:21eb81a0f5664e08a83c52da7da2a3ee@www.uni-marburg.de
ATTENDEE;CN="Referent: Prof. Dr. Martin Koch; Koreferent: Prof. Dr. Wolfga
 ng Stolz";ROLE=REQ-PARTICIPANT:Referent: Prof. Dr. Martin Koch; Koreferent
 : Prof. Dr. Wolfgang Stolz
CREATED:20210818T131312Z
DESCRIPTION:https://www.uni-marburg.de/de/fb13/aktuelles/termine/examensar
 beiten/2021/investigating-self-mode-locking-in-vecsels-nonlinear-lensing-a
 nd-frequency-modulated-combs\nDisputation von Christian Kriso
LAST-MODIFIED:20210824T143344Z
LOCATION:Fachbereich Physik\, Großer Hörsaal Renthof 5 und für die Öff
 entlichkeit per Videokonferenz
URL:https://www.uni-marburg.de/de/fb13/aktuelles/termine/examensarbeiten/2
 021/investigating-self-mode-locking-in-vecsels-nonlinear-lensing-and-frequ
 ency-modulated-combs
END:VEVENT
BEGIN:VTIMEZONE
TZID:Europe/Berlin
X-LIC-LOCATION:Europe/Berlin
BEGIN:DAYLIGHT
DTSTART:20210328T030000
TZNAME:CEST
TZOFFSETFROM:+0100
TZOFFSETTO:+0200
END:DAYLIGHT
END:VTIMEZONE
END:VCALENDAR
