BEGIN:VCALENDAR
VERSION:2.0
PRODID:-//Plone.org//NONSGML plone.app.event//EN
X-WR-TIMEZONE:Europe/Berlin
BEGIN:VEVENT
SUMMARY:Optical Spectroscopy on Organic-Inorganic Hybrid Structures
DTSTART;TZID=Europe/Berlin:20210312T160000
DTEND;TZID=Europe/Berlin:20210312T173000
DTSTAMP:20260424T050845Z
UID:83e93d4d58c24d5fb6c9ed06d26ca3aa@www.uni-marburg.de
ATTENDEE;CN="Referent: Prof. Dr. Wolfram Heimbrodt, Koreferent: Prof. Dr. 
 Gregor Witte ";ROLE=REQ-PARTICIPANT:Referent: Prof. Dr. Wolfram Heimbrodt,
  Koreferent: Prof. Dr. Gregor Witte 
CREATED:20210301T073537Z
DESCRIPTION:https://www.uni-marburg.de/de/fb13/aktuelles/termine/examensar
 beiten/2021/optical-spectroscopy-on-organic-inorganic-hybrid-structures\nD
 isputation von Ingo Meyenburg
LAST-MODIFIED:20210301T073725Z
LOCATION:Fachbereich Physik\, Renthof 5\, Großer Hörsaal
URL:https://www.uni-marburg.de/de/fb13/aktuelles/termine/examensarbeiten/2
 021/optical-spectroscopy-on-organic-inorganic-hybrid-structures
END:VEVENT
BEGIN:VTIMEZONE
TZID:Europe/Berlin
X-LIC-LOCATION:Europe/Berlin
BEGIN:STANDARD
DTSTART:20201025T020000
TZNAME:CET
TZOFFSETFROM:+0200
TZOFFSETTO:+0100
END:STANDARD
END:VTIMEZONE
END:VCALENDAR
