BEGIN:VCALENDAR
VERSION:2.0
PRODID:-//Plone.org//NONSGML plone.app.event//EN
X-WR-TIMEZONE:Europe/Berlin
BEGIN:VEVENT
SUMMARY:Untersuchung der strukturellen und optoelektronischen Eigenschafte
 n fluorierter organischer Halbleiter
DTSTART;TZID=Europe/Berlin:20240603T140000
DTEND;TZID=Europe/Berlin:20240603T153000
DTSTAMP:20260425T131255Z
UID:dc1a5a5758744ed8a42a9727149a8f15@www.uni-marburg.de
ATTENDEE;CN="Referent: Prof. Dr. Gregor Witte; Koreferent: Prof. Dr. Ulric
 h Koert";ROLE=REQ-PARTICIPANT:Referent: Prof. Dr. Gregor Witte; Koreferent
 : Prof. Dr. Ulrich Koert
CREATED:20240506T053549Z
DESCRIPTION:https://www.uni-marburg.de/de/fb13/aktuelles/termine/examensar
 beiten/2024/untersuchung-der-strukturellen-und-optoelektronischen-eigensch
 aften-fluorierter-orga-nischer-halbleiter\nDisputation von Daniel Bischof
LAST-MODIFIED:20240506T143718Z
LOCATION:Fachbereich Physik\, Renthof 5\, Kleiner Hörsaal
URL:https://www.uni-marburg.de/de/fb13/aktuelles/termine/examensarbeiten/2
 024/untersuchung-der-strukturellen-und-optoelektronischen-eigenschaften-fl
 uorierter-orga-nischer-halbleiter
END:VEVENT
BEGIN:VTIMEZONE
TZID:Europe/Berlin
X-LIC-LOCATION:Europe/Berlin
BEGIN:DAYLIGHT
DTSTART:20240331T030000
TZNAME:CEST
TZOFFSETFROM:+0100
TZOFFSETTO:+0200
END:DAYLIGHT
END:VTIMEZONE
END:VCALENDAR
