BEGIN:VCALENDAR
VERSION:2.0
PRODID:-//Plone.org//NONSGML plone.app.event//EN
X-WR-TIMEZONE:Europe/Berlin
BEGIN:VEVENT
SUMMARY:Active Segregation in Binary Mixtures under Flow
DTSTART;TZID=Europe/Berlin:20250505T151500
DTEND;TZID=Europe/Berlin:20250505T164500
DTSTAMP:20260422T162605Z
UID:0bec3bbdd2f44ddd95de17252cf05fbf@www.uni-marburg.de
ATTENDEE;CN="Referent: Prof. Dr. Viktor Sourjik; Koreferent: Dr. Remy Coli
 n, MPI für terrestrische Mikrobiologie";ROLE=REQ-PARTICIPANT:Referent: Pr
 of. Dr. Viktor Sourjik; Koreferent: Dr. Remy Colin, MPI für terrestrische
  Mikrobiologie
CREATED:20250123T081216Z
DESCRIPTION:https://www.uni-marburg.de/de/fb13/aktuelles/termine/examensar
 beiten/2025/active-segregation-in-binary-mixtures-under-flow\nDisputation 
 von Giacomo Di Dio
LAST-MODIFIED:20250429T160411Z
LOCATION:Vortragssaal\, Zentrum für Synthetische Mikrobiologie\, Karl-von
 -Frisch-Straße 14
URL:https://www.uni-marburg.de/de/fb13/aktuelles/termine/examensarbeiten/2
 025/active-segregation-in-binary-mixtures-under-flow
END:VEVENT
BEGIN:VTIMEZONE
TZID:Europe/Berlin
X-LIC-LOCATION:Europe/Berlin
BEGIN:DAYLIGHT
DTSTART:20250330T030000
TZNAME:CEST
TZOFFSETFROM:+0100
TZOFFSETTO:+0200
END:DAYLIGHT
END:VTIMEZONE
END:VCALENDAR
