BEGIN:VCALENDAR
VERSION:2.0
PRODID:-//Plone.org//NONSGML plone.app.event//EN
X-WR-TIMEZONE:Europe/Berlin
BEGIN:VEVENT
SUMMARY:Influence of Sintering Temperature on the Structure of Layered Tra
 nsition-Metal Oxide Cathodes and LLZO-Based Solid Electrolyte Composites f
 or Solid State Batteries Studied with Scanning Transmission Electron Micro
 scopy
DTSTART;TZID=Europe/Berlin:20250326T160000
DTEND;TZID=Europe/Berlin:20250326T173000
DTSTAMP:20260421T203027Z
UID:3c2610a7e8264b749dfea771752ca835@www.uni-marburg.de
ATTENDEE;CN="Referentin: Prof. Dr. Kerstin Volz; Koreferent: Prof. Dr. Jü
 rgen Janek, Univ. Gießen";ROLE=REQ-PARTICIPANT:Referentin: Prof. Dr. Kers
 tin Volz; Koreferent: Prof. Dr. Jürgen Janek, Univ. Gießen
CREATED:20250123T081216Z
DESCRIPTION:https://www.uni-marburg.de/de/fb13/aktuelles/termine/examensar
 beiten/2025/influence-of-sintering-temperature\nDisputation von Thomas Dem
 uth
LAST-MODIFIED:20250324T080812Z
LOCATION:Fachbereich Physik\, Hans-Meerwein-Str. 6\, Mehrzweckgebäude\, R
 . 02D36
URL:https://www.uni-marburg.de/de/fb13/aktuelles/termine/examensarbeiten/2
 025/influence-of-sintering-temperature
END:VEVENT
BEGIN:VTIMEZONE
TZID:Europe/Berlin
X-LIC-LOCATION:Europe/Berlin
BEGIN:STANDARD
DTSTART:20241027T020000
TZNAME:CET
TZOFFSETFROM:+0200
TZOFFSETTO:+0100
END:STANDARD
END:VTIMEZONE
END:VCALENDAR
