BEGIN:VCALENDAR
VERSION:2.0
PRODID:-//Plone.org//NONSGML plone.app.event//EN
X-WR-TIMEZONE:Europe/Berlin
BEGIN:VEVENT
SUMMARY:Optimization of Neural Response in the Primate Dorsal Visual Pathw
 ay
DTSTART;TZID=Europe/Berlin:20250818T160000
DTEND;TZID=Europe/Berlin:20250818T173000
DTSTAMP:20260422T230205Z
UID:3476ce49e09d4bb3b63485ed9bccea13@www.uni-marburg.de
ATTENDEE;CN="Referent: Prof. Dr. Frank Bremmer, Koreferent: Prof. Dr. Mark
 us Lappe, Universität Münster";ROLE=REQ-PARTICIPANT:Referent: Prof. Dr. 
 Frank Bremmer, Koreferent: Prof. Dr. Markus Lappe, Universität Münster
CREATED:20250807T124329Z
DESCRIPTION:https://www.uni-marburg.de/de/fb13/aktuelles/termine/examensar
 beiten/2025/optimization-of-neural-response-in-the-primate-dorsal-visual-p
 athway\nDisputation von Alexander Kreß
LAST-MODIFIED:20250813T081339Z
LOCATION:Fachbereich Psychologie\, Gutenbergstr. 18\, R. 00018
URL:https://www.uni-marburg.de/de/fb13/aktuelles/termine/examensarbeiten/2
 025/optimization-of-neural-response-in-the-primate-dorsal-visual-pathway
END:VEVENT
BEGIN:VTIMEZONE
TZID:Europe/Berlin
X-LIC-LOCATION:Europe/Berlin
BEGIN:DAYLIGHT
DTSTART:20250330T030000
TZNAME:CEST
TZOFFSETFROM:+0100
TZOFFSETTO:+0200
END:DAYLIGHT
END:VTIMEZONE
END:VCALENDAR
