BEGIN:VCALENDAR
VERSION:2.0
PRODID:-//Plone.org//NONSGML plone.app.event//EN
X-WR-TIMEZONE:Europe/Berlin
BEGIN:VEVENT
SUMMARY:Theoretische Methoden zur Quantifizierung und Klassifizierung von 
 Mikroplastik
DTSTART;TZID=Europe/Berlin:20251128T120000
DTEND;TZID=Europe/Berlin:20251128T133000
DTSTAMP:20260425T061336Z
UID:82c6f996b3f445968d2e7a46343d3306@www.uni-marburg.de
ATTENDEE;CN="Referent: Prof. Dr. Peter Lenz, Koreferent: Prof. Dr. Martin 
 Koch";ROLE=REQ-PARTICIPANT:Referent: Prof. Dr. Peter Lenz, Koreferent: Pro
 f. Dr. Martin Koch
CREATED:20251117T182551Z
DESCRIPTION:https://www.uni-marburg.de/de/fb13/aktuelles/termine/examensar
 beiten/2025/theoretische-methoden-zur-quantifizierung-und-klassifizierung-
 von-mikroplastik\nDisputation von Joshua Fuhrmann
LAST-MODIFIED:20251119T144359Z
LOCATION:Fachbereich Physik\, Hörsaal Renthof 6
URL:https://www.uni-marburg.de/de/fb13/aktuelles/termine/examensarbeiten/2
 025/theoretische-methoden-zur-quantifizierung-und-klassifizierung-von-mikr
 oplastik
END:VEVENT
BEGIN:VTIMEZONE
TZID:Europe/Berlin
X-LIC-LOCATION:Europe/Berlin
BEGIN:STANDARD
DTSTART:20251026T020000
TZNAME:CET
TZOFFSETFROM:+0200
TZOFFSETTO:+0100
END:STANDARD
END:VTIMEZONE
END:VCALENDAR
