BEGIN:VCALENDAR
VERSION:2.0
PRODID:-//Plone.org//NONSGML plone.app.event//EN
X-WR-TIMEZONE:Europe/Berlin
BEGIN:VEVENT
SUMMARY:Topological Solitons in the In/Si(111) Atomic Wire-Array
DTSTART;TZID=Europe/Berlin:20250312T130000
DTEND;TZID=Europe/Berlin:20250312T143000
DTSTAMP:20260424T001253Z
UID:e5131a6edfea4841b79f4a05388edacd@www.uni-marburg.de
ATTENDEE;CN="Referent: Prof. Dr. Stefan Wippermann; Koreferent: Prof. Dr. 
 Wolf Gero Schmidt, Univ. Paderborn";ROLE=REQ-PARTICIPANT:Referent: Prof. D
 r. Stefan Wippermann; Koreferent: Prof. Dr. Wolf Gero Schmidt, Univ. Pader
 born
CREATED:20250123T081216Z
DESCRIPTION:https://www.uni-marburg.de/de/fb13/aktuelles/termine/examensar
 beiten/2025/topological-solitons-in-the-in-si-111-atomic-wire-array\nDispu
 tation von Samad Razzaq
LAST-MODIFIED:20250123T162353Z
LOCATION:Fachbereich Physik\, Hörsaal Renthof 7
URL:https://www.uni-marburg.de/de/fb13/aktuelles/termine/examensarbeiten/2
 025/topological-solitons-in-the-in-si-111-atomic-wire-array
END:VEVENT
BEGIN:VTIMEZONE
TZID:Europe/Berlin
X-LIC-LOCATION:Europe/Berlin
BEGIN:STANDARD
DTSTART:20241027T020000
TZNAME:CET
TZOFFSETFROM:+0200
TZOFFSETTO:+0100
END:STANDARD
END:VTIMEZONE
END:VCALENDAR
