BEGIN:VCALENDAR
VERSION:2.0
PRODID:-//Plone.org//NONSGML plone.app.event//EN
X-WR-TIMEZONE:Europe/Berlin
BEGIN:VEVENT
SUMMARY:Ultrafast Processes in Organic Semiconductors: From Spectral and S
 patial Dynamics in Model Systems towards Heterostructures
DTSTART;TZID=Europe/Berlin:20250926T100000
DTEND;TZID=Europe/Berlin:20250926T113000
DTSTAMP:20260424T194716Z
UID:31b4a38210f54c6589ee145515506d31@www.uni-marburg.de
ATTENDEE;CN="Referentin: Prof. Dr. Marina Gerhard; Koreferent: Prof. Dr. G
 regor Witte";ROLE=REQ-PARTICIPANT:Referentin: Prof. Dr. Marina Gerhard; Ko
 referent: Prof. Dr. Gregor Witte
CREATED:20250825T095041Z
DESCRIPTION:https://www.uni-marburg.de/de/fb13/aktuelles/termine/examensar
 beiten/2025/ultrafast-processes-in-organic-semiconductors-from-spectral-an
 d-spatial-dynamics-in-model-systems-towards-heterostructures\nDisputation 
 von Dominik Muth
LAST-MODIFIED:20250826T150153Z
LOCATION:Fachbereich Physik\, Kleiner Hörsaal Renthof 5
URL:https://www.uni-marburg.de/de/fb13/aktuelles/termine/examensarbeiten/2
 025/ultrafast-processes-in-organic-semiconductors-from-spectral-and-spatia
 l-dynamics-in-model-systems-towards-heterostructures
END:VEVENT
BEGIN:VTIMEZONE
TZID:Europe/Berlin
X-LIC-LOCATION:Europe/Berlin
BEGIN:DAYLIGHT
DTSTART:20250330T030000
TZNAME:CEST
TZOFFSETFROM:+0100
TZOFFSETTO:+0200
END:DAYLIGHT
END:VTIMEZONE
END:VCALENDAR
