BEGIN:VCALENDAR
VERSION:2.0
PRODID:-//Plone.org//NONSGML plone.app.event//EN
X-WR-TIMEZONE:Europe/Berlin
BEGIN:VEVENT
SUMMARY:Vibrational and Structural Study of PTCDA\, P2O and P4O on Ag(111)
  and Ag(110)
DTSTART;TZID=Europe/Berlin:20250414T140000
DTEND;TZID=Europe/Berlin:20250414T153000
DTSTAMP:20260424T185652Z
UID:eee05689d9734decb6da985470c98fa8@www.uni-marburg.de
ATTENDEE;CN="Referent: Prof. Dr. Peter Jakob; Koreferent: Prof. Dr. Gregor
  Witte";ROLE=REQ-PARTICIPANT:Referent: Prof. Dr. Peter Jakob; Koreferent: 
 Prof. Dr. Gregor Witte
CREATED:20250123T081216Z
DESCRIPTION:https://www.uni-marburg.de/de/fb13/aktuelles/termine/examensar
 beiten/2025/vibrational-and-structural-study-of-ptcda-p2o-and-p4o-on-ag-11
 1-and-ag-110\nDisputation von Ravi Priya
LAST-MODIFIED:20250404T093703Z
LOCATION:Fachbereich Physik\, Kleiner Hörsaal Renthof 5
URL:https://www.uni-marburg.de/de/fb13/aktuelles/termine/examensarbeiten/2
 025/vibrational-and-structural-study-of-ptcda-p2o-and-p4o-on-ag-111-and-ag
 -110
END:VEVENT
BEGIN:VTIMEZONE
TZID:Europe/Berlin
X-LIC-LOCATION:Europe/Berlin
BEGIN:DAYLIGHT
DTSTART:20250330T030000
TZNAME:CEST
TZOFFSETFROM:+0100
TZOFFSETTO:+0200
END:DAYLIGHT
END:VTIMEZONE
END:VCALENDAR
