BEGIN:VCALENDAR
VERSION:2.0
PRODID:-//Plone.org//NONSGML plone.app.event//EN
X-WR-TIMEZONE:Europe/Berlin
BEGIN:VEVENT
SUMMARY:Subcycle Time-Resolved THz-ARPES of Topological Surface Currents i
 n 2D Momentum Space
DTSTART;TZID=Europe/Berlin:20260306T120000
DTEND;TZID=Europe/Berlin:20260306T133000
DTSTAMP:20260424T233524Z
UID:b961db8912cc498fa5d152cd5fe769b9@www.uni-marburg.de
ATTENDEE;CN="Referent: Prof. Dr. Jens Güdde; Koreferent: Prof. Dr. Marcel
  Reutzel";ROLE=REQ-PARTICIPANT:Referent: Prof. Dr. Jens Güdde; Koreferent
 : Prof. Dr. Marcel Reutzel
CATEGORIES:()
CREATED:20260226T170149Z
DESCRIPTION:https://www.uni-marburg.de/de/fb13/aktuelles/termine/examensar
 beiten/2026/subcycle-time-resolved-thz-arpes-of-topologigal-surface-curren
 ts-in-2d-momentum-space\nDisputation von Tim Bergmeier
LAST-MODIFIED:20260226T170315Z
LOCATION:Fachbereich Physik\, Hörsaal Renthof 7
URL:https://www.uni-marburg.de/de/fb13/aktuelles/termine/examensarbeiten/2
 026/subcycle-time-resolved-thz-arpes-of-topologigal-surface-currents-in-2d
 -momentum-space
END:VEVENT
BEGIN:VTIMEZONE
TZID:Europe/Berlin
X-LIC-LOCATION:Europe/Berlin
BEGIN:STANDARD
DTSTART:20251026T020000
TZNAME:CET
TZOFFSETFROM:+0200
TZOFFSETTO:+0100
END:STANDARD
END:VTIMEZONE
END:VCALENDAR
