BEGIN:VCALENDAR
VERSION:2.0
PRODID:-//Plone.org//NONSGML plone.app.event//EN
X-WR-TIMEZONE:Europe/Berlin
BEGIN:VEVENT
SUMMARY:33. Hochschultage Physik
DTSTART;TZID=Europe/Berlin:20180215T141500
DTEND;TZID=Europe/Berlin:20180216T153000
DTSTAMP:20260424T230858Z
UID:b5208a638f644dfb8ea2660d6bb57466@www.uni-marburg.de
ATTENDEE;CN="Prof. Dr. Ilka Agricola, Universität Marburg";ROLE=REQ-PARTI
 CIPANT:Prof. Dr. Ilka Agricola, Universität Marburg
ATTENDEE;CN="Prof. Dr. Paul Galland, Universität Marburg";ROLE=REQ-PARTIC
 IPANT:Prof. Dr. Paul Galland, Universität Marburg
ATTENDEE;CN="Dr. Roman Gold, Universität Frankfurt";ROLE=REQ-PARTICIPANT:
 Dr. Roman Gold, Universität Frankfurt
ATTENDEE;CN="Prof. Dr. Hartmug Grote, Cardiff University, UK";ROLE=REQ-PAR
 TICIPANT:Prof. Dr. Hartmug Grote, Cardiff University, UK
ATTENDEE;CN="Prof. Dr. Peter Lenz, Univerität Marburg";ROLE=REQ-PARTICIPA
 NT:Prof. Dr. Peter Lenz, Univerität Marburg
ATTENDEE;CN="Prof. Dr. Friedrich Steinle, TU Berlin";ROLE=REQ-PARTICIPANT:
 Prof. Dr. Friedrich Steinle, TU Berlin
ATTENDEE;CN="Prof. Dr. Marco Zagermann, Deutsches Elektronen-Synchrotron D
 ESY, Hamburg";ROLE=REQ-PARTICIPANT:Prof. Dr. Marco Zagermann, Deutsches El
 ektronen-Synchrotron DESY, Hamburg
ATTENDEE;CN=;ROLE=REQ-PARTICIPANT:
CREATED:20180202T140842Z
DESCRIPTION:https://www.uni-marburg.de/de/fb13/aktuelles/termine/hochschul
 tage-physik/33-hochschulerkundungstage-wechselwirkungen\nAkkreditierte For
 tbildungsveranstaltung für Lehrerinnen und Lehrer
LAST-MODIFIED:20180215T104658Z
LOCATION:Fachbereich Physik\, Renthof 5\, Großer Hörsaal
URL:https://www.uni-marburg.de/de/fb13/aktuelles/termine/hochschultage-phy
 sik/33-hochschulerkundungstage-wechselwirkungen
END:VEVENT
BEGIN:VTIMEZONE
TZID:Europe/Berlin
X-LIC-LOCATION:Europe/Berlin
BEGIN:STANDARD
DTSTART:20171029T020000
TZNAME:CET
TZOFFSETFROM:+0200
TZOFFSETTO:+0100
END:STANDARD
END:VTIMEZONE
END:VCALENDAR
