BEGIN:VCALENDAR
VERSION:2.0
PRODID:-//Plone.org//NONSGML plone.app.event//EN
X-WR-TIMEZONE:Europe/Berlin
BEGIN:VEVENT
SUMMARY:34. Hochschultage Physik
DTSTART;TZID=Europe/Berlin:20190218T093000
DTEND;TZID=Europe/Berlin:20190219T130000
DTSTAMP:20260423T065542Z
UID:97d3cb08aefd48c696a5a8126ce4a538@www.uni-marburg.de
ATTENDEE;CN="Prof. Dr. Wolfgang Ensinger, TU Darmstadt";ROLE=REQ-PARTICIPA
 NT:Prof. Dr. Wolfgang Ensinger, TU Darmstadt
ATTENDEE;CN="Dr. Jennifer Garner, Deutsches Berbau-Museum, Bochum";ROLE=RE
 Q-PARTICIPANT:Dr. Jennifer Garner, Deutsches Berbau-Museum, Bochum
ATTENDEE;CN="Prof. Dr. Winfried Held, Philipps-Universität Marburg";ROLE=
 REQ-PARTICIPANT:Prof. Dr. Winfried Held, Philipps-Universität Marburg
ATTENDEE;CN="Susanne Lindauer, MSc Physik, Klaus-Tschira-Archäometrie Zen
 trum, Mannheim";ROLE=REQ-PARTICIPANT:Susanne Lindauer, MSc Physik, Klaus-T
 schira-Archäometrie Zentrum, Mannheim
ATTENDEE;CN="Dr. Enrico Pigorsch, Papiertechnische Stiftung, Heidenau";ROL
 E=REQ-PARTICIPANT:Dr. Enrico Pigorsch, Papiertechnische Stiftung, Heidenau
ATTENDEE;CN="Dr. Sabine Schade-Lindig, Landesamt für Denkmalpflege Hessen
 , Wiesbaden";ROLE=REQ-PARTICIPANT:Dr. Sabine Schade-Lindig, Landesamt für
  Denkmalpflege Hessen, Wiesbaden
ATTENDEE;CN="Dr. Peter Thomas, Deutsches Berbau-Museum, Bochum";ROLE=REQ-P
 ARTICIPANT:Dr. Peter Thomas, Deutsches Berbau-Museum, Bochum
ATTENDEE;CN="Dr. Fabian Wolf, Städel, Frankfurt";ROLE=REQ-PARTICIPANT:Dr.
  Fabian Wolf, Städel, Frankfurt
ATTENDEE;CN="Dr. Christian Wunderlich, Landesmuseum für Vorgeschichte, Ha
 lle";ROLE=REQ-PARTICIPANT:Dr. Christian Wunderlich, Landesmuseum für Vorg
 eschichte, Halle
ATTENDEE;CN="Prof. Dr. Ünsal Yalcin, Deutsches Berbau-Museum, Bochum";ROL
 E=REQ-PARTICIPANT:Prof. Dr. Ünsal Yalcin, Deutsches Berbau-Museum, Bochum
ATTENDEE;CN="Benno Zickgraf, M. A., Posselt & Zickgraf Prospektionen GbR, 
 Marburg";ROLE=REQ-PARTICIPANT:Benno Zickgraf, M. A., Posselt & Zickgraf Pr
 ospektionen GbR, Marburg
ATTENDEE;CN=;ROLE=REQ-PARTICIPANT:
CREATED:20190122T141635Z
DESCRIPTION:https://www.uni-marburg.de/de/fb13/aktuelles/termine/hochschul
 tage-physik/34-hochschultage-physik\nAkkreditierte Fortbildungsveranstaltu
 ng für Lehrerinnen und Lehrer
LAST-MODIFIED:20190122T143226Z
LOCATION:Fachbereich Physik\, Renthof 5\, Großer Hörsaal
URL:https://www.uni-marburg.de/de/fb13/aktuelles/termine/hochschultage-phy
 sik/34-hochschultage-physik
END:VEVENT
BEGIN:VTIMEZONE
TZID:Europe/Berlin
X-LIC-LOCATION:Europe/Berlin
BEGIN:STANDARD
DTSTART:20181028T020000
TZNAME:CET
TZOFFSETFROM:+0200
TZOFFSETTO:+0100
END:STANDARD
END:VTIMEZONE
END:VCALENDAR
