BEGIN:VCALENDAR
VERSION:2.0
PRODID:-//Plone.org//NONSGML plone.app.event//EN
X-WR-TIMEZONE:Europe/Berlin
BEGIN:VEVENT
SUMMARY:36. Hochschultage Physik
DTSTART;TZID=Europe/Berlin:20230213T090000
DTEND;TZID=Europe/Berlin:20230214T125000
DTSTAMP:20260422T025641Z
UID:29aa5bff99054543b38adeed91254688@www.uni-marburg.de
ATTENDEE;CN="Dr. Lukas Wagner, AG Solare Energiekonversion, Fachbereich Ph
 ysik, Philipps-Universität Marburg";ROLE=REQ-PARTICIPANT:Dr. Lukas Wagner
 , AG Solare Energiekonversion, Fachbereich Physik, Philipps-Universität M
 arburg
ATTENDEE;CN="Dr. Stefan Gehler, Schleswig-Holstein Netz AG, Quickborn";ROL
 E=REQ-PARTICIPANT:Dr. Stefan Gehler, Schleswig-Holstein Netz AG, Quickborn
ATTENDEE;CN="Dr. Karl-Heinz Muth, Chemikum e. V., Marburg";ROLE=REQ-PARTIC
 IPANT:Dr. Karl-Heinz Muth, Chemikum e. V., Marburg
ATTENDEE;CN="Dr. Alexander Kremper, Elisabethschule, Marburg";ROLE=REQ-PAR
 TICIPANT:Dr. Alexander Kremper, Elisabethschule, Marburg
ATTENDEE;CN="Andreas Wade, Head of Sustainability, Viessmann, Berlin";ROLE
 =REQ-PARTICIPANT:Andreas Wade, Head of Sustainability, Viessmann, Berlin
ATTENDEE;CN="Prof. Dr. Bernhard Roling, Fachbereich Chemie, Philipps-Unive
 rsität Marburg";ROLE=REQ-PARTICIPANT:Prof. Dr. Bernhard Roling, Fachberei
 ch Chemie, Philipps-Universität Marburg
ATTENDEE;CN="Prof. Dr. Jan Christoph Goldschmidt, Fachbereich Physik, Phil
 ipps-Universität Marburg";ROLE=REQ-PARTICIPANT:Prof. Dr. Jan Christoph Go
 ldschmidt, Fachbereich Physik, Philipps-Universität Marburg
ATTENDEE;CN="Dr. Alexander Heim, Fraunhofer Einrichtung für Energieinfras
 trukturen und Geothermie IEG, Bochum ";ROLE=REQ-PARTICIPANT:Dr. Alexander 
 Heim, Fraunhofer Einrichtung für Energieinfrastrukturen und Geothermie IE
 G, Bochum 
ATTENDEE;CN="Prof. Dipl.-Ing. Holger Rohn, Technische Hochschule Mittelhes
 sen, Friedberg";ROLE=REQ-PARTICIPANT:Prof. Dipl.-Ing. Holger Rohn, Technis
 che Hochschule Mittelhessen, Friedberg
ATTENDEE;CN="Prof. Dr. Heinz Jänsch, Fachbereich Physik, Philipps-Univers
 ität Marburg";ROLE=REQ-PARTICIPANT:Prof. Dr. Heinz Jänsch, Fachbereich P
 hysik, Philipps-Universität Marburg
ATTENDEE;CN=;ROLE=REQ-PARTICIPANT:
CREATED:20190122T141635Z
DESCRIPTION:https://www.uni-marburg.de/de/fb13/aktuelles/termine/hochschul
 tage-physik/36-hochschultage-physik\nAkkreditierte Fortbildungsveranstaltu
 ng für Lehrerinnen und Lehrer
LAST-MODIFIED:20230212T052725Z
LOCATION:Fachbereich Physik\, Renthof 5\, Großer Hörsaal
URL:https://www.uni-marburg.de/de/fb13/aktuelles/termine/hochschultage-phy
 sik/36-hochschultage-physik
END:VEVENT
BEGIN:VTIMEZONE
TZID:Europe/Berlin
X-LIC-LOCATION:Europe/Berlin
BEGIN:STANDARD
DTSTART:20221030T020000
TZNAME:CET
TZOFFSETFROM:+0200
TZOFFSETTO:+0100
END:STANDARD
END:VTIMEZONE
END:VCALENDAR
