BEGIN:VCALENDAR
VERSION:2.0
PRODID:-//Plone.org//NONSGML plone.app.event//EN
X-WR-TIMEZONE:Europe/Berlin
BEGIN:VEVENT
SUMMARY:A New View of our Universe - Multimessenger Astronomy
DTSTART;TZID=Europe/Berlin:20230426T153000
DTEND;TZID=Europe/Berlin:20230426T163000
DTSTAMP:20260425T133418Z
UID:208c766836594d4183b744a509377ae8@www.uni-marburg.de
ATTENDEE;CN="Christian Stegmann, DESY und Universität Potsdam";ROLE=REQ-P
 ARTICIPANT:Christian Stegmann, DESY und Universität Potsdam
CREATED:20230331T085028Z
DESCRIPTION:https://www.uni-marburg.de/de/fb13/aktuelles/termine/kolloquiu
 m/kolloquium-sommersemester-2023/a-new-view-of-our-universe-multimessenger
 -astronomy\nGemeinsames Kolloquium des Fachbereichs Physik und des SFB 108
 3
LAST-MODIFIED:20230504T103610Z
LOCATION:Fachbereich Physik\, Renthof 5\, Großer Hörsaal
URL:https://www.uni-marburg.de/de/fb13/aktuelles/termine/kolloquium/kolloq
 uium-sommersemester-2023/a-new-view-of-our-universe-multimessenger-astrono
 my
END:VEVENT
BEGIN:VTIMEZONE
TZID:Europe/Berlin
X-LIC-LOCATION:Europe/Berlin
BEGIN:DAYLIGHT
DTSTART:20230326T030000
TZNAME:CEST
TZOFFSETFROM:+0100
TZOFFSETTO:+0200
END:DAYLIGHT
END:VTIMEZONE
END:VCALENDAR
