BEGIN:VCALENDAR
VERSION:2.0
PRODID:-//Plone.org//NONSGML plone.app.event//EN
X-WR-TIMEZONE:Europe/Berlin
BEGIN:VEVENT
SUMMARY:“Energy in the Box” – The Physical Chemistry of High-Perform
 ance Batteries
DTSTART;TZID=Europe/Berlin:20230607T153000
DTEND;TZID=Europe/Berlin:20230607T163000
DTSTAMP:20260424T074903Z
UID:d8139aea931a42a0907d2c13af41a4b5@www.uni-marburg.de
ATTENDEE;CN="Jürgen Janek, Universität Gießen";ROLE=REQ-PARTICIPANT:Jü
 rgen Janek, Universität Gießen
CREATED:20230331T085028Z
DESCRIPTION:https://www.uni-marburg.de/de/fb13/aktuelles/termine/kolloquiu
 m/kolloquium-sommersemester-2023/challenges-in-battery-research\nGemeinsam
 es Kolloquium des Fachbereichs Physik und des SFB 1083
LAST-MODIFIED:20230526T140856Z
LOCATION:Fachbereich Physik\, Renthof 5\, Großer Hörsaal
URL:https://www.uni-marburg.de/de/fb13/aktuelles/termine/kolloquium/kolloq
 uium-sommersemester-2023/challenges-in-battery-research
END:VEVENT
BEGIN:VTIMEZONE
TZID:Europe/Berlin
X-LIC-LOCATION:Europe/Berlin
BEGIN:DAYLIGHT
DTSTART:20230326T030000
TZNAME:CEST
TZOFFSETFROM:+0100
TZOFFSETTO:+0200
END:DAYLIGHT
END:VTIMEZONE
END:VCALENDAR
