BEGIN:VCALENDAR
VERSION:2.0
PRODID:-//Plone.org//NONSGML plone.app.event//EN
X-WR-TIMEZONE:Europe/Berlin
BEGIN:VEVENT
SUMMARY:Publishing in Nature Physics
DTSTART;TZID=Europe/Berlin:20230621T153000
DTEND;TZID=Europe/Berlin:20230621T163000
DTSTAMP:20260421T231538Z
UID:d68a99fc6e1b4ec996e4bbcab04f85d4@www.uni-marburg.de
ATTENDEE;CN="Bart Verberck, Editor at Nature Physics";ROLE=REQ-PARTICIPANT
 :Bart Verberck, Editor at Nature Physics
CREATED:20230331T085028Z
DESCRIPTION:https://www.uni-marburg.de/de/fb13/aktuelles/termine/kolloquiu
 m/kolloquium-sommersemester-2023/publishing-in-nature-physics\nGemeinsames
  Kolloquium des Fachbereichs Physik und des SFB 1083
LAST-MODIFIED:20230504T103817Z
LOCATION:Fachbereich Physik\, Renthof 5\, Großer Hörsaal
URL:https://www.uni-marburg.de/de/fb13/aktuelles/termine/kolloquium/kolloq
 uium-sommersemester-2023/publishing-in-nature-physics
END:VEVENT
BEGIN:VTIMEZONE
TZID:Europe/Berlin
X-LIC-LOCATION:Europe/Berlin
BEGIN:DAYLIGHT
DTSTART:20230326T030000
TZNAME:CEST
TZOFFSETFROM:+0100
TZOFFSETTO:+0200
END:DAYLIGHT
END:VTIMEZONE
END:VCALENDAR
