BEGIN:VCALENDAR
VERSION:2.0
PRODID:-//Plone.org//NONSGML plone.app.event//EN
X-WR-TIMEZONE:Europe/Berlin
BEGIN:VEVENT
SUMMARY:Are Cluster Approaches Useful for Describing Thin Films of Organic
  Semiconductors
DTSTART;TZID=Europe/Berlin:20220113T171500
DTEND;TZID=Europe/Berlin:20220113T184500
DTSTAMP:20260424T194720Z
UID:a09f82a0fc52449a9e073631c675e42b@www.uni-marburg.de
ATTENDEE;CN="Prof. Dr. Bernd Engels, Institut für Physikalische und Theor
 etische Chemie, Fakultät für Chemie und Pharmazie, Universität Würzbur
 g";ROLE=REQ-PARTICIPANT:Prof. Dr. Bernd Engels, Institut für Physikalisch
 e und Theoretische Chemie, Fakultät für Chemie und Pharmazie, Universit
 ät Würzburg
ATTENDEE;CN=;ROLE=REQ-PARTICIPANT:
ATTENDEE;CN=;ROLE=REQ-PARTICIPANT:
CREATED:20211025T140555Z
DESCRIPTION:https://www.uni-marburg.de/de/fb13/aktuelles/termine/kolloquiu
 m/kolloquium-wintersemester-2021-2022/dynamik-von-ladungstransfer-exzitone
 n\nKolloquium SFB 1083
LAST-MODIFIED:20211123T081945Z
LOCATION:Fachbereich Physik\, Großer Hörsaal Renthof 5
URL:https://www.uni-marburg.de/de/fb13/aktuelles/termine/kolloquium/kolloq
 uium-wintersemester-2021-2022/dynamik-von-ladungstransfer-exzitonen
END:VEVENT
BEGIN:VTIMEZONE
TZID:Europe/Berlin
X-LIC-LOCATION:Europe/Berlin
BEGIN:STANDARD
DTSTART:20211031T020000
TZNAME:CET
TZOFFSETFROM:+0200
TZOFFSETTO:+0100
END:STANDARD
END:VTIMEZONE
END:VCALENDAR
