BEGIN:VCALENDAR
VERSION:2.0
PRODID:-//Plone.org//NONSGML plone.app.event//EN
X-WR-TIMEZONE:Europe/Berlin
BEGIN:VEVENT
SUMMARY:Insight into Excitons in Organic and Hybrid Materials from First-P
 rinciples Many-Body  Theory
DTSTART;TZID=Europe/Berlin:20220210T171500
DTEND;TZID=Europe/Berlin:20220210T184500
DTSTAMP:20260425T141922Z
UID:93804be48c3340438ddc6aa8cddcad04@www.uni-marburg.de
ATTENDEE;CN="Prof. Dr. Caterina Cocchi, Institut für Physik, Universität
  Oldenburg";ROLE=REQ-PARTICIPANT:Prof. Dr. Caterina Cocchi, Institut für 
 Physik, Universität Oldenburg
ATTENDEE;CN=;ROLE=REQ-PARTICIPANT:
ATTENDEE;CN=;ROLE=REQ-PARTICIPANT:
CREATED:20211025T140555Z
DESCRIPTION:https://www.uni-marburg.de/de/fb13/aktuelles/termine/kolloquiu
 m/kolloquium-wintersemester-2021-2022/insight-on-excitons-in-organic-and-h
 ybrid-materials-from-first-principles-many-body-theory\nKolloquium SFB 108
 3
LAST-MODIFIED:20220127T091246Z
LOCATION:Per Videokonferenz
URL:https://www.uni-marburg.de/de/fb13/aktuelles/termine/kolloquium/kolloq
 uium-wintersemester-2021-2022/insight-on-excitons-in-organic-and-hybrid-ma
 terials-from-first-principles-many-body-theory
END:VEVENT
BEGIN:VTIMEZONE
TZID:Europe/Berlin
X-LIC-LOCATION:Europe/Berlin
BEGIN:STANDARD
DTSTART:20211031T020000
TZNAME:CET
TZOFFSETFROM:+0200
TZOFFSETTO:+0100
END:STANDARD
END:VTIMEZONE
END:VCALENDAR
