BEGIN:VCALENDAR
VERSION:2.0
PRODID:-//Plone.org//NONSGML plone.app.event//EN
X-WR-TIMEZONE:Europe/Berlin
BEGIN:VEVENT
SUMMARY:Strongfield and Ultrafast Physics at Graphene and Graphene-Based I
 nterfaces
DTSTART;TZID=Europe/Berlin:20211125T171500
DTEND;TZID=Europe/Berlin:20211125T184500
DTSTAMP:20260424T170238Z
UID:6562daca13a44d029061c69491b47161@www.uni-marburg.de
ATTENDEE;CN="Prof. Dr. Peter Hommelhoff, Fachbereich Physik, Universität 
 Erlangen-Nürnberg";ROLE=REQ-PARTICIPANT:Prof. Dr. Peter Hommelhoff, Fachb
 ereich Physik, Universität Erlangen-Nürnberg
CREATED:20211025T140555Z
DESCRIPTION:https://www.uni-marburg.de/de/fb13/aktuelles/termine/kolloquiu
 m/kolloquium-wintersemester-2021-2022/strongfield-and-ultrafast-physics-at
 -graphene-and-graphene-based-interfaces\nKolloquium SFB 1083
LAST-MODIFIED:20211116T080955Z
LOCATION:Fachbereich Physik\, Großer Hörsaal Renthof 5
URL:https://www.uni-marburg.de/de/fb13/aktuelles/termine/kolloquium/kolloq
 uium-wintersemester-2021-2022/strongfield-and-ultrafast-physics-at-graphen
 e-and-graphene-based-interfaces
END:VEVENT
BEGIN:VTIMEZONE
TZID:Europe/Berlin
X-LIC-LOCATION:Europe/Berlin
BEGIN:STANDARD
DTSTART:20211031T020000
TZNAME:CET
TZOFFSETFROM:+0200
TZOFFSETTO:+0100
END:STANDARD
END:VTIMEZONE
END:VCALENDAR
