BEGIN:VCALENDAR
VERSION:2.0
PRODID:-//Plone.org//NONSGML plone.app.event//EN
X-WR-TIMEZONE:Europe/Berlin
BEGIN:VEVENT
SUMMARY:The Turbulent and Dynamical Environment of the Supermassive Black 
 Hole Sgr A* in the Center of our Galaxy
DTSTART;TZID=Europe/Berlin:20211216T171500
DTEND;TZID=Europe/Berlin:20211216T184500
DTSTAMP:20260426T055650Z
UID:27f81af71a0644848ffc6e39c0445b56@www.uni-marburg.de
ATTENDEE;CN="Dr. Florian Peißker, I. Physikalisches Instituit, Universit
 ät zu Köln";ROLE=REQ-PARTICIPANT:Dr. Florian Peißker, I. Physikalisches
  Instituit, Universität zu Köln
ATTENDEE;CN=;ROLE=REQ-PARTICIPANT:
ATTENDEE;CN=;ROLE=REQ-PARTICIPANT:
CREATED:20211025T140555Z
DESCRIPTION:https://www.uni-marburg.de/de/fb13/aktuelles/termine/kolloquiu
 m/kolloquium-wintersemester-2021-2022/the-turbulent-and-dynamical-environm
 ent-of-the-supermassive-black-hole-sgr-a-in-the-center-of-our-galaxy\nKoll
 oquium Fachbereich Physik
LAST-MODIFIED:20211116T062713Z
LOCATION:Fachbereich Physik\, Großer Hörsaal Renthof 5
URL:https://www.uni-marburg.de/de/fb13/aktuelles/termine/kolloquium/kolloq
 uium-wintersemester-2021-2022/the-turbulent-and-dynamical-environment-of-t
 he-supermassive-black-hole-sgr-a-in-the-center-of-our-galaxy
END:VEVENT
BEGIN:VTIMEZONE
TZID:Europe/Berlin
X-LIC-LOCATION:Europe/Berlin
BEGIN:STANDARD
DTSTART:20211031T020000
TZNAME:CET
TZOFFSETFROM:+0200
TZOFFSETTO:+0100
END:STANDARD
END:VTIMEZONE
END:VCALENDAR
