BEGIN:VCALENDAR
VERSION:2.0
PRODID:-//Plone.org//NONSGML plone.app.event//EN
X-WR-TIMEZONE:Europe/Berlin
BEGIN:VEVENT
SUMMARY:Ultrafast Birefringent Spin-Lasers
DTSTART;TZID=Europe/Berlin:20190613T171500
DTEND;TZID=Europe/Berlin:20190613T184500
DTSTAMP:20260423T070101Z
UID:056692bd4e7545968d91eb28512f30e6@www.uni-marburg.de
ATTENDEE;CN="PD Dr. Nils Gerhardt, Ruhr-Universität Bochum";ROLE=REQ-PART
 ICIPANT:PD Dr. Nils Gerhardt, Ruhr-Universität Bochum
CREATED:20190417T093608Z
DESCRIPTION:https://www.uni-marburg.de/de/fb13/aktuelles/termine/kolloquiu
 m/sommersemester-2019/ultrafast-birefringent-spin-lasers\nKolloquium Fachb
 ereich Physik
LAST-MODIFIED:20190417T093702Z
LOCATION:Fachbereich Physik\, Renthof 5\, Kleiner Hörsaal
URL:https://www.uni-marburg.de/de/fb13/aktuelles/termine/kolloquium/sommer
 semester-2019/ultrafast-birefringent-spin-lasers
END:VEVENT
BEGIN:VTIMEZONE
TZID:Europe/Berlin
X-LIC-LOCATION:Europe/Berlin
BEGIN:DAYLIGHT
DTSTART:20190331T030000
TZNAME:CEST
TZOFFSETFROM:+0100
TZOFFSETTO:+0200
END:DAYLIGHT
END:VTIMEZONE
END:VCALENDAR
