BEGIN:VCALENDAR
VERSION:2.0
PRODID:-//Plone.org//NONSGML plone.app.event//EN
X-WR-TIMEZONE:Europe/Berlin
BEGIN:VEVENT
SUMMARY:Learning to See without Supervision
DTSTART;TZID=Europe/Berlin:20220707T171500
DTEND;TZID=Europe/Berlin:20220707T184500
DTSTAMP:20260420T131834Z
UID:84e689cfdd824f50952cd7fb96efc1c0@www.uni-marburg.de
ATTENDEE;CN="Prof. Dr. Jochen Triesch, Frankfurt Institute of Advanced Stu
 dies, Frankfurt";ROLE=REQ-PARTICIPANT:Prof. Dr. Jochen Triesch, Frankfurt 
 Institute of Advanced Studies, Frankfurt
CREATED:20220408T151005Z
DESCRIPTION:https://www.uni-marburg.de/de/fb13/aktuelles/termine/kolloquiu
 m/sommersemester-2022/learning-to-see-without-supervision\nKolloquium Fach
 bereich Physik
LAST-MODIFIED:20220509T110821Z
LOCATION:Fachbereich Physik\, Großer Hörsaal Renthof 5 und per Videokonf
 erenz
URL:https://www.uni-marburg.de/de/fb13/aktuelles/termine/kolloquium/sommer
 semester-2022/learning-to-see-without-supervision
END:VEVENT
BEGIN:VTIMEZONE
TZID:Europe/Berlin
X-LIC-LOCATION:Europe/Berlin
BEGIN:DAYLIGHT
DTSTART:20220327T030000
TZNAME:CEST
TZOFFSETFROM:+0100
TZOFFSETTO:+0200
END:DAYLIGHT
END:VTIMEZONE
END:VCALENDAR
