BEGIN:VCALENDAR
VERSION:2.0
PRODID:-//Plone.org//NONSGML plone.app.event//EN
X-WR-TIMEZONE:Europe/Berlin
BEGIN:VEVENT
SUMMARY:Exciton Transport in Atomically Thin Semiconductors
DTSTART;TZID=Europe/Berlin:20240515T153000
DTEND;TZID=Europe/Berlin:20240515T163000
DTSTAMP:20260424T074901Z
UID:fb70df9b4cc249e880af0b4f8652012c@www.uni-marburg.de
ATTENDEE;CN="Roberto Rosati ";ROLE=REQ-PARTICIPANT:Roberto Rosati 
CREATED:20240301T092201Z
DESCRIPTION:https://www.uni-marburg.de/de/fb13/aktuelles/termine/kolloquiu
 m/sommersemester-2024/exciton-transport-in-atomically-thin-semiconductros\
 nGemeinsames Kolloquium des Fachbereichs Physik und des SFB 1083
LAST-MODIFIED:20240301T142721Z
LOCATION:Fachbereich Physik\, Renthof 5\, Großer Hörsaal
URL:https://www.uni-marburg.de/de/fb13/aktuelles/termine/kolloquium/sommer
 semester-2024/exciton-transport-in-atomically-thin-semiconductros
END:VEVENT
BEGIN:VTIMEZONE
TZID:Europe/Berlin
X-LIC-LOCATION:Europe/Berlin
BEGIN:DAYLIGHT
DTSTART:20240331T030000
TZNAME:CEST
TZOFFSETFROM:+0100
TZOFFSETTO:+0200
END:DAYLIGHT
END:VTIMEZONE
END:VCALENDAR
