BEGIN:VCALENDAR
VERSION:2.0
PRODID:-//Plone.org//NONSGML plone.app.event//EN
X-WR-TIMEZONE:Europe/Berlin
BEGIN:VEVENT
SUMMARY:High-Throughput Analysis of PV Installations
DTSTART;TZID=Europe/Berlin:20240508T153000
DTEND;TZID=Europe/Berlin:20240508T163000
DTSTAMP:20260422T001101Z
UID:f9537c4e1d92468b9ac5ef8baef65003@www.uni-marburg.de
ATTENDEE;CN="Ian Marius Peters, Helmholtz-Institut Erlangen Nürnberg für
  Erneuerbare Energien";ROLE=REQ-PARTICIPANT:Ian Marius Peters, Helmholtz-I
 nstitut Erlangen Nürnberg für Erneuerbare Energien
CREATED:20240301T092201Z
DESCRIPTION:https://www.uni-marburg.de/de/fb13/aktuelles/termine/kolloquiu
 m/sommersemester-2024/high-throughput-analysis-of-pv-installations\nGemein
 sames Kolloquium des Fachbereichs Physik und des SFB 1083
LAST-MODIFIED:20240301T142418Z
LOCATION:Fachbereich Physik\, Renthof 5\, Großer Hörsaal
URL:https://www.uni-marburg.de/de/fb13/aktuelles/termine/kolloquium/sommer
 semester-2024/high-throughput-analysis-of-pv-installations
END:VEVENT
BEGIN:VTIMEZONE
TZID:Europe/Berlin
X-LIC-LOCATION:Europe/Berlin
BEGIN:DAYLIGHT
DTSTART:20240331T030000
TZNAME:CEST
TZOFFSETFROM:+0100
TZOFFSETTO:+0200
END:DAYLIGHT
END:VTIMEZONE
END:VCALENDAR
